BEGIN:VCALENDAR
VERSION:2.0
PRODID:-//Kaiser Woodland PFO - ECPv6.15.17.1//NONSGML v1.0//EN
CALSCALE:GREGORIAN
METHOD:PUBLISH
X-WR-CALNAME:Kaiser Woodland PFO
X-ORIGINAL-URL:https://kwpfo.org
X-WR-CALDESC:Events for Kaiser Woodland PFO
REFRESH-INTERVAL;VALUE=DURATION:PT1H
X-Robots-Tag:noindex
X-PUBLISHED-TTL:PT1H
BEGIN:VTIMEZONE
TZID:America/Los_Angeles
BEGIN:DAYLIGHT
TZOFFSETFROM:-0800
TZOFFSETTO:-0700
TZNAME:PDT
DTSTART:20250309T100000
END:DAYLIGHT
BEGIN:STANDARD
TZOFFSETFROM:-0700
TZOFFSETTO:-0800
TZNAME:PST
DTSTART:20251102T090000
END:STANDARD
BEGIN:DAYLIGHT
TZOFFSETFROM:-0800
TZOFFSETTO:-0700
TZNAME:PDT
DTSTART:20260308T100000
END:DAYLIGHT
BEGIN:STANDARD
TZOFFSETFROM:-0700
TZOFFSETTO:-0800
TZNAME:PST
DTSTART:20261101T090000
END:STANDARD
BEGIN:DAYLIGHT
TZOFFSETFROM:-0800
TZOFFSETTO:-0700
TZNAME:PDT
DTSTART:20270314T100000
END:DAYLIGHT
BEGIN:STANDARD
TZOFFSETFROM:-0700
TZOFFSETTO:-0800
TZNAME:PST
DTSTART:20271107T090000
END:STANDARD
END:VTIMEZONE
BEGIN:VEVENT
DTSTART;VALUE=DATE:20260327
DTEND;VALUE=DATE:20260328
DTSTAMP:20260420T002658
CREATED:20250807T040001Z
LAST-MODIFIED:20250807T040001Z
UID:10000538-1774569600-1774655999@kwpfo.org
SUMMARY:Kaiser Talent Show
DESCRIPTION:
URL:https://kwpfo.org/event/kaiser-talent-show-2/
END:VEVENT
BEGIN:VEVENT
DTSTART;VALUE=DATE:20260327
DTEND;VALUE=DATE:20260328
DTSTAMP:20260420T002658
CREATED:20250807T040410Z
LAST-MODIFIED:20250807T174855Z
UID:10000493-1774569600-1774655999@kwpfo.org
SUMMARY:Recess Art - Woodland & Kaiser
DESCRIPTION:
URL:https://kwpfo.org/event/recess-art-woodland-kaiser/2026-03-27/
END:VEVENT
BEGIN:VEVENT
DTSTART;VALUE=DATE:20260327
DTEND;VALUE=DATE:20260328
DTSTAMP:20260420T002658
CREATED:20250807T043822Z
LAST-MODIFIED:20250807T180004Z
UID:10000572-1774569600-1774655999@kwpfo.org
SUMMARY:Frozen Friday Fundraiser
DESCRIPTION:
URL:https://kwpfo.org/event/frozen-friday-fundraiser/2026-03-27/
END:VEVENT
BEGIN:VEVENT
DTSTART;VALUE=DATE:20260327
DTEND;VALUE=DATE:20260328
DTSTAMP:20260420T002659
CREATED:20260114T204613Z
LAST-MODIFIED:20260212T152757Z
UID:10000633-1774569600-1774655999@kwpfo.org
SUMMARY:Kaiser Talent Show
DESCRIPTION:
URL:https://kwpfo.org/event/kaiser-talent-show-3/
END:VEVENT
END:VCALENDAR