BEGIN:VCALENDAR
VERSION:2.0
PRODID:-//Kaiser Woodland PFO - ECPv6.15.17.1//NONSGML v1.0//EN
CALSCALE:GREGORIAN
METHOD:PUBLISH
X-ORIGINAL-URL:https://kwpfo.org
X-WR-CALDESC:Events for Kaiser Woodland PFO
REFRESH-INTERVAL;VALUE=DURATION:PT1H
X-Robots-Tag:noindex
X-PUBLISHED-TTL:PT1H
BEGIN:VTIMEZONE
TZID:America/Los_Angeles
BEGIN:DAYLIGHT
TZOFFSETFROM:-0800
TZOFFSETTO:-0700
TZNAME:PDT
DTSTART:20250309T100000
END:DAYLIGHT
BEGIN:STANDARD
TZOFFSETFROM:-0700
TZOFFSETTO:-0800
TZNAME:PST
DTSTART:20251102T090000
END:STANDARD
BEGIN:DAYLIGHT
TZOFFSETFROM:-0800
TZOFFSETTO:-0700
TZNAME:PDT
DTSTART:20260308T100000
END:DAYLIGHT
BEGIN:STANDARD
TZOFFSETFROM:-0700
TZOFFSETTO:-0800
TZNAME:PST
DTSTART:20261101T090000
END:STANDARD
BEGIN:DAYLIGHT
TZOFFSETFROM:-0800
TZOFFSETTO:-0700
TZNAME:PDT
DTSTART:20270314T100000
END:DAYLIGHT
BEGIN:STANDARD
TZOFFSETFROM:-0700
TZOFFSETTO:-0800
TZNAME:PST
DTSTART:20271107T090000
END:STANDARD
END:VTIMEZONE
BEGIN:VEVENT
DTSTART;VALUE=DATE:20260316
DTEND;VALUE=DATE:20260326
DTSTAMP:20260420T002734
CREATED:20250807T040111Z
LAST-MODIFIED:20260212T153443Z
UID:10000535-1773619200-1774483199@kwpfo.org
SUMMARY:Jog-A-Thon Fundraiser - Woodland & Kaiser
DESCRIPTION:
URL:https://kwpfo.org/event/jog-a-thon-fundraiser-woodland-kaiser/
END:VEVENT
BEGIN:VEVENT
DTSTART;VALUE=DATE:20260324
DTEND;VALUE=DATE:20260325
DTSTAMP:20260420T002734
CREATED:20250807T040052Z
LAST-MODIFIED:20260212T154745Z
UID:10000536-1774310400-1774396799@kwpfo.org
SUMMARY:Jog-A-Thon - Kaiser Run
DESCRIPTION:2nd ~ 8:30–9:30AM\, \n3rd ~ 9:30–10:30AM\, \n4th ~ 10:30–11:30AM\, \n5th ~ 11:30-12:30PM\, \n6th (Color Run) ~ 1:40-2:40PM
URL:https://kwpfo.org/event/jog-a-thon-kaiser-run/
END:VEVENT
END:VCALENDAR